BEGIN:VCALENDAR
VERSION:2.0
PRODID:-//Rijwan &amp; Satya&#039;s Blog - ECPv6.2.0.1//NONSGML v1.0//EN
CALSCALE:GREGORIAN
METHOD:PUBLISH
X-ORIGINAL-URL:https://main.rijsat.com
X-WR-CALDESC:Events for Rijwan &amp; Satya&#039;s Blog
REFRESH-INTERVAL;VALUE=DURATION:PT1H
X-Robots-Tag:noindex
X-PUBLISHED-TTL:PT1H
BEGIN:VTIMEZONE
TZID:Asia/Katmandu
BEGIN:STANDARD
TZOFFSETFROM:+0545
TZOFFSETTO:+0545
TZNAME:+0545
DTSTART:20220101T000000
END:STANDARD
END:VTIMEZONE
BEGIN:VEVENT
DTSTART;TZID=Asia/Katmandu:20221118T200000
DTEND;TZID=Asia/Katmandu:20221118T223000
DTSTAMP:20260422T113142
CREATED:20221117T010150Z
LAST-MODIFIED:20221117T010150Z
UID:5027-1668801600-1668810600@main.rijsat.com
SUMMARY:Blockchain Development with .NET
DESCRIPTION:Welcome to the Blockchain Development with .NET Show!! Free Online Event!! \nJoin us Live for FREE to inspire\, learn and deep dive into Blockchain technologies and its development with .NET. \nRegistration Link \nThis is a series of live shows we discuss\, share and demonstrate about Blockchain development with .NET. \nBlockchain is an emerging technology of this era. Without any doubt\, blockchain is going to make several headlines\, news\, and research topics in the foreseeable future. \nBlockchain is a technology for record-keeping and contract enforcement. Simply blockchain is a software code and data. It uses cryptography to make it extremely difficult to modify the previous history. Blockchain technology is referred to as a secure\, shared\, and distributed ledger which is just like an accounting ledger containing a history of transactions in multiple locations. See here for a detailed understanding of blockchain. \nhttps://www.eventbrite.com/e/blockchain-development-with-net-tickets-462488665047 \nIn this series of sessions\, we will learn\, discuss and deep dive into Blockchain technologies and its development with .NET platform. Furthermore\, we develop Blockchain solutions and talk about the applications of it in broader term.
URL:https://main.rijsat.com/event/blockchain-development-with-net/
LOCATION:Virtual Live (MS Teams)
CATEGORIES:Events
ATTACH;FMTTYPE=image/png:https://main.rijsat.com/wp-content/uploads/2022/11/Blockchain-3.png
END:VEVENT
END:VCALENDAR